BEGIN:VCALENDAR
VERSION:2.0
PRODID:-//jEvents 2.0 for Joomla//EN
CALSCALE:GREGORIAN
METHOD:PUBLISH
BEGIN:VEVENT
UID:CSVConvert24aeb165d8078172320d2ba2ede3030c
CATEGORIES:Vencimientos
CREATED:20230323T174740
SUMMARY:Vencimiento SIRCAR - 1ra Quincena - 12/2019 (CUIT 5 a 9)
DESCRIPTION:
DTSTAMP:20260421T132735
DTSTART;TZID=America/Argentina/Buenos_Aires;VALUE=DATE:20191226
DTEND;TZID=America/Argentina/Buenos_Aires;VALUE=DATE:20191227
SEQUENCE:0
TRANSP:OPAQUE
END:VEVENT
END:VCALENDAR