BEGIN:VCALENDAR
VERSION:2.0
PRODID:-//jEvents 2.0 for Joomla//EN
CALSCALE:GREGORIAN
METHOD:PUBLISH
BEGIN:VEVENT
UID:CSVConvert242af9aaad77d7899ff5601ca081b102
CATEGORIES:Vencimientos
CREATED:20230323T174740
SUMMARY:Vencimiento SIRCAR - 1ra Quincena - 11/2019 (CUIT 0 a 4)
DESCRIPTION:
DTSTAMP:20260421T153018
DTSTART;TZID=America/Argentina/Buenos_Aires;VALUE=DATE:20191122
DTEND;TZID=America/Argentina/Buenos_Aires;VALUE=DATE:20191123
SEQUENCE:0
TRANSP:OPAQUE
END:VEVENT
END:VCALENDAR