BEGIN:VCALENDAR
VERSION:2.0
PRODID:-//jEvents 2.0 for Joomla//EN
CALSCALE:GREGORIAN
METHOD:PUBLISH
BEGIN:VEVENT
UID:CSVConvert9bfdf4fca66e5a13277b0f637449ddf8
CATEGORIES:Vencimientos
CREATED:20241230T134456
SUMMARY:SIRCREB - VENCIMIENTO PRESENTACION DDJJ 3ra DECENA JULIO
DESCRIPTION:
DTSTAMP:20260419T162518
DTSTART;TZID=America/Argentina/Buenos_Aires;VALUE=DATE:20250806
DTEND;TZID=America/Argentina/Buenos_Aires;VALUE=DATE:20250807
SEQUENCE:0
TRANSP:OPAQUE
END:VEVENT
END:VCALENDAR