BEGIN:VCALENDAR
VERSION:2.0
PRODID:-//jEvents 2.0 for Joomla//EN
CALSCALE:GREGORIAN
METHOD:PUBLISH
BEGIN:VEVENT
UID:CSVConvert21f81889358fdcbd23508f161ed67e13
CATEGORIES:Vencimientos
CREATED:20230323T174739
SUMMARY:Vencimiento SIRCREB (Pago DDJJ - 3ra. decena Mayo)
DESCRIPTION:
DTSTAMP:20260421T202833
DTSTART;TZID=America/Argentina/Buenos_Aires;VALUE=DATE:20180607
DTEND;TZID=America/Argentina/Buenos_Aires;VALUE=DATE:20180608
SEQUENCE:0
TRANSP:OPAQUE
END:VEVENT
END:VCALENDAR