BEGIN:VCALENDAR
VERSION:2.0
PRODID:-//jEvents 2.0 for Joomla//EN
CALSCALE:GREGORIAN
METHOD:PUBLISH
BEGIN:VEVENT
UID:CSVConvert29997559e748da75835723b0c67d33f5
CATEGORIES:Vencimientos
CREATED:20241230T134455
SUMMARY:SIRCAR - VENCIMIENTO 2da QUINCENA Y MENSUAL MAYO Díg. Verif. Cuit 0 al 4
DESCRIPTION:
DTSTAMP:20260419T130258
DTSTART;TZID=America/Argentina/Buenos_Aires;VALUE=DATE:20250606
DTEND;TZID=America/Argentina/Buenos_Aires;VALUE=DATE:20250607
SEQUENCE:0
TRANSP:OPAQUE
END:VEVENT
END:VCALENDAR