BEGIN:VCALENDAR
VERSION:2.0
PRODID:-//jEvents 2.0 for Joomla//EN
CALSCALE:GREGORIAN
METHOD:PUBLISH
BEGIN:VEVENT
UID:CSVConvertd62f74c6edd36a53ecd3addb7dae866e
CATEGORIES:Vencimientos
CREATED:20241230T134455
SUMMARY:SIFERE - VENCIMIENTO Anticipo Julio - Díg. Verif. Cuit 8 a 9
DESCRIPTION:
DTSTAMP:20260421T101055
DTSTART;TZID=America/Argentina/Buenos_Aires;VALUE=DATE:20250821
DTEND;TZID=America/Argentina/Buenos_Aires;VALUE=DATE:20250822
SEQUENCE:0
TRANSP:OPAQUE
END:VEVENT
END:VCALENDAR