BEGIN:VCALENDAR
VERSION:2.0
PRODID:-//jEvents 2.0 for Joomla//EN
CALSCALE:GREGORIAN
METHOD:PUBLISH
BEGIN:VEVENT
UID:CSVConverta7cf06f0afab2bfedd03350d18b2a58c
CATEGORIES:Vencimientos
CREATED:20241230T134455
SUMMARY:SIFERE - VENCIMIENTO Anticipo Marzo - Díg. Verif. Cuit 3 a 5
DESCRIPTION:
DTSTAMP:20260421T121258
DTSTART;TZID=America/Argentina/Buenos_Aires;VALUE=DATE:20250416
DTEND;TZID=America/Argentina/Buenos_Aires;VALUE=DATE:20250417
SEQUENCE:0
TRANSP:OPAQUE
END:VEVENT
END:VCALENDAR