BEGIN:VCALENDAR
VERSION:2.0
PRODID:-//jEvents 2.0 for Joomla//EN
CALSCALE:GREGORIAN
METHOD:PUBLISH
BEGIN:VEVENT
UID:CSVConvert4bae78926eb65ee87e4945d24f927c02
CATEGORIES:Vencimientos
CREATED:20241230T134455
SUMMARY:SIFERE - VENCIMIENTO Anticipo Junio - Díg. Verif. Cuit 0 a 2
DESCRIPTION:
DTSTAMP:20260421T134945
DTSTART;TZID=America/Argentina/Buenos_Aires;VALUE=DATE:20250715
DTEND;TZID=America/Argentina/Buenos_Aires;VALUE=DATE:20250716
SEQUENCE:0
TRANSP:OPAQUE
END:VEVENT
END:VCALENDAR