BEGIN:VCALENDAR
VERSION:2.0
PRODID:-//jEvents 2.0 for Joomla//EN
CALSCALE:GREGORIAN
METHOD:PUBLISH
BEGIN:VEVENT
UID:CSVConvert111ab1aebc023a342161e68b2c24e627
CATEGORIES:Vencimientos
CREATED:20231213T173238
SUMMARY:SIRCUPA - VENCIMIENTO PRESENTACION DDJJ 3ra DECENA OCTUBRE
DESCRIPTION:
DTSTAMP:20260421T085642
DTSTART;TZID=America/Argentina/Buenos_Aires;VALUE=DATE:20241107
DTEND;TZID=America/Argentina/Buenos_Aires;VALUE=DATE:20241108
SEQUENCE:0
TRANSP:OPAQUE
END:VEVENT
END:VCALENDAR