BEGIN:VCALENDAR
VERSION:2.0
PRODID:-//jEvents 2.0 for Joomla//EN
CALSCALE:GREGORIAN
METHOD:PUBLISH
BEGIN:VEVENT
UID:CSVConvert1cc5981e1cbb0aa30a8855e5787d3044
CATEGORIES:Vencimientos
CREATED:20230323T174739
SUMMARY:Vencimiento SIRCAR - 2da Quincena y Mensual - 12/2018 (CUIT 5 a 9)
DESCRIPTION:
DTSTAMP:20260421T113839
DTSTART;TZID=America/Argentina/Buenos_Aires;VALUE=DATE:20190110
DTEND;TZID=America/Argentina/Buenos_Aires;VALUE=DATE:20190111
SEQUENCE:0
TRANSP:OPAQUE
END:VEVENT
END:VCALENDAR