BEGIN:VCALENDAR
VERSION:2.0
PRODID:-//jEvents 2.0 for Joomla//EN
CALSCALE:GREGORIAN
METHOD:PUBLISH
BEGIN:VEVENT
UID:CSVConvert1c914703251fbedb29680ce1d544a19e
CATEGORIES:Vencimientos
CREATED:20230323T174739
SUMMARY:Vencimiento SIFERE - Convenio Multilateral - 02/2018(CUIT 0 A 2)
DESCRIPTION:
DTSTAMP:20260421T203119
DTSTART;TZID=America/Argentina/Buenos_Aires;VALUE=DATE:20180315
DTEND;TZID=America/Argentina/Buenos_Aires;VALUE=DATE:20180316
SEQUENCE:0
TRANSP:OPAQUE
END:VEVENT
END:VCALENDAR