BEGIN:VCALENDAR
VERSION:2.0
PRODID:-//jEvents 2.0 for Joomla//EN
CALSCALE:GREGORIAN
METHOD:PUBLISH
BEGIN:VEVENT
UID:CSVConvert025e41f686f866ce564240ad955c8b37
CATEGORIES:Vencimientos
CREATED:20230323T174736
SUMMARY:Vencimiento SIFERE - Convenio Multilateral - 11/2019 (CUIT 3 a 5)
DESCRIPTION:
DTSTAMP:20260421T132321
DTSTART;TZID=America/Argentina/Buenos_Aires;VALUE=DATE:20191217
DTEND;TZID=America/Argentina/Buenos_Aires;VALUE=DATE:20191218
SEQUENCE:0
TRANSP:OPAQUE
END:VEVENT
END:VCALENDAR