BEGIN:VCALENDAR
VERSION:2.0
PRODID:-//jEvents 2.0 for Joomla//EN
CALSCALE:GREGORIAN
METHOD:PUBLISH
BEGIN:VEVENT
UID:CSVConvert1bf6bef46e78ce4f4786b77b2a9d8501
CATEGORIES:Vencimientos
CREATED:20230323T174739
SUMMARY:Vencimiento SIRCREB (Pago DDJJ - 1ra. decena Enero)
DESCRIPTION:
DTSTAMP:20260421T120243
DTSTART;TZID=America/Argentina/Buenos_Aires;VALUE=DATE:20190117
DTEND;TZID=America/Argentina/Buenos_Aires;VALUE=DATE:20190118
SEQUENCE:0
TRANSP:OPAQUE
END:VEVENT
END:VCALENDAR