BEGIN:VCALENDAR
VERSION:2.0
PRODID:-//jEvents 2.0 for Joomla//EN
CALSCALE:GREGORIAN
METHOD:PUBLISH
BEGIN:VEVENT
UID:CSVConvert9d396bf99ce29507168bf1339c67fc1a
CATEGORIES:Vencimientos
CREATED:20231213T173237
SUMMARY:SIRCAR - VENCIMIENTO 1ra QUINCENA SEPTIEMBRE Díg. Verif. Cuit 0 al 4
DESCRIPTION:
DTSTAMP:20260419T162355
DTSTART;TZID=America/Argentina/Buenos_Aires;VALUE=DATE:20240923
DTEND;TZID=America/Argentina/Buenos_Aires;VALUE=DATE:20240924
SEQUENCE:0
TRANSP:OPAQUE
END:VEVENT
END:VCALENDAR