BEGIN:VCALENDAR
VERSION:2.0
PRODID:-//jEvents 2.0 for Joomla//EN
CALSCALE:GREGORIAN
METHOD:PUBLISH
BEGIN:VEVENT
UID:CSVConvert19e9e7694e3623f2aa8dedb18348b0a3
CATEGORIES:Vencimientos
CREATED:20230323T174738
SUMMARY:Vencimiento SIRCREB (Pago DDJJ - 1ra. decena Noviembre)
DESCRIPTION:
DTSTAMP:20260421T155022
DTSTART;TZID=America/Argentina/Buenos_Aires;VALUE=DATE:20191115
DTEND;TZID=America/Argentina/Buenos_Aires;VALUE=DATE:20191116
SEQUENCE:0
TRANSP:OPAQUE
END:VEVENT
END:VCALENDAR