BEGIN:VCALENDAR
VERSION:2.0
PRODID:-//jEvents 2.0 for Joomla//EN
CALSCALE:GREGORIAN
METHOD:PUBLISH
BEGIN:VEVENT
UID:CSVConvertffd2b739ba94db536c399fc0730b4125
CATEGORIES:Vencimientos
CREATED:20230323T174814
SUMMARY:Vencimiento SIFERE - Convenio Multilateral - 05/2018(CUIT 8 A 9)
DESCRIPTION:
DTSTAMP:20260421T203338
DTSTART;TZID=America/Argentina/Buenos_Aires;VALUE=DATE:20180621
DTEND;TZID=America/Argentina/Buenos_Aires;VALUE=DATE:20180622
SEQUENCE:0
TRANSP:OPAQUE
END:VEVENT
END:VCALENDAR