BEGIN:VCALENDAR
VERSION:2.0
PRODID:-//jEvents 2.0 for Joomla//EN
CALSCALE:GREGORIAN
METHOD:PUBLISH
BEGIN:VEVENT
UID:CSVConvertfe81c66e8cac34a2e3e8d4f369bbf42a
CATEGORIES:Vencimientos
CREATED:20230323T174814
SUMMARY:Vencimiento SIFERE - Convenio Multilateral - 12/2017 (CUIT 0 a 2)
DESCRIPTION:
DTSTAMP:20260421T202908
DTSTART;TZID=America/Argentina/Buenos_Aires;VALUE=DATE:20180115
DTEND;TZID=America/Argentina/Buenos_Aires;VALUE=DATE:20180116
SEQUENCE:0
TRANSP:OPAQUE
END:VEVENT
END:VCALENDAR