BEGIN:VCALENDAR
VERSION:2.0
PRODID:-//jEvents 2.0 for Joomla//EN
CALSCALE:GREGORIAN
METHOD:PUBLISH
BEGIN:VEVENT
UID:CSVConvertfd8d247f79a60f620d3559ee82b84b74
CATEGORIES:Vencimientos
CREATED:20230323T174814
SUMMARY:Vencimiento SIRCREB (Pago DDJJ - 3ra. decena Octubre)
DESCRIPTION:
DTSTAMP:20260421T224514
DTSTART;TZID=America/Argentina/Buenos_Aires;VALUE=DATE:20181108
DTEND;TZID=America/Argentina/Buenos_Aires;VALUE=DATE:20181109
SEQUENCE:0
TRANSP:OPAQUE
END:VEVENT
END:VCALENDAR