BEGIN:VCALENDAR
VERSION:2.0
PRODID:-//jEvents 2.0 for Joomla//EN
CALSCALE:GREGORIAN
METHOD:PUBLISH
BEGIN:VEVENT
UID:CSVConvertfd44991c2c15eefe278100ed5f3f4717
CATEGORIES:Vencimientos
CREATED:20230323T174814
SUMMARY:Vencimiento SIRCREB (Pago DDJJ - 1ra. decena Septiembre)
DESCRIPTION:
DTSTAMP:20260421T155152
DTSTART;TZID=America/Argentina/Buenos_Aires;VALUE=DATE:20190917
DTEND;TZID=America/Argentina/Buenos_Aires;VALUE=DATE:20190918
SEQUENCE:0
TRANSP:OPAQUE
END:VEVENT
END:VCALENDAR