BEGIN:VCALENDAR
VERSION:2.0
PRODID:-//jEvents 2.0 for Joomla//EN
CALSCALE:GREGORIAN
METHOD:PUBLISH
BEGIN:VEVENT
UID:CSVConvertfcbc0faf17ed8e9424cb1fdda04f2075
CATEGORIES:Vencimientos
CREATED:20230323T174814
SUMMARY:Vencimiento SIFERE - Convenio Multilateral - 06/2018(CUIT 6 A 7)
DESCRIPTION:
DTSTAMP:20260421T204806
DTSTART;TZID=America/Argentina/Buenos_Aires;VALUE=DATE:20180718
DTEND;TZID=America/Argentina/Buenos_Aires;VALUE=DATE:20180719
SEQUENCE:0
TRANSP:OPAQUE
END:VEVENT
END:VCALENDAR