BEGIN:VCALENDAR
VERSION:2.0
PRODID:-//jEvents 2.0 for Joomla//EN
CALSCALE:GREGORIAN
METHOD:PUBLISH
BEGIN:VEVENT
UID:CSVConvertfbfbeaf1262b69ea285a0de617193a87
CATEGORIES:Vencimientos
CREATED:20230323T174813
SUMMARY:Vencimiento SIRCAR - 2da Quincena y Mensual - 02/2018 (CUIT 5 a 9)
DESCRIPTION:
DTSTAMP:20260421T203002
DTSTART;TZID=America/Argentina/Buenos_Aires;VALUE=DATE:20180312
DTEND;TZID=America/Argentina/Buenos_Aires;VALUE=DATE:20180313
SEQUENCE:0
TRANSP:OPAQUE
END:VEVENT
END:VCALENDAR