BEGIN:VCALENDAR
VERSION:2.0
PRODID:-//jEvents 2.0 for Joomla//EN
CALSCALE:GREGORIAN
METHOD:PUBLISH
BEGIN:VEVENT
UID:CSVConvertfa95ec44e9273fd0404fa58b400cac6a
CATEGORIES:Vencimientos
CREATED:20230323T174813
SUMMARY:Vencimiento SIRCREB (Pago DDJJ - 2da. decena Diciembre)
DESCRIPTION:
DTSTAMP:20260421T211949
DTSTART;TZID=America/Argentina/Buenos_Aires;VALUE=DATE:20181228
DTEND;TZID=America/Argentina/Buenos_Aires;VALUE=DATE:20181229
SEQUENCE:0
TRANSP:OPAQUE
END:VEVENT
END:VCALENDAR