BEGIN:VCALENDAR
VERSION:2.0
PRODID:-//jEvents 2.0 for Joomla//EN
CALSCALE:GREGORIAN
METHOD:PUBLISH
BEGIN:VEVENT
UID:CSVConvertf9e064b272aed1f5299d5204a687a571
CATEGORIES:Vencimientos
CREATED:20230323T174813
SUMMARY:Vencimiento SIRCREB (Presentación DDJJ -2da. decena Abril)
DESCRIPTION:
DTSTAMP:20260421T120958
DTSTART;TZID=America/Argentina/Buenos_Aires;VALUE=DATE:20190425
DTEND;TZID=America/Argentina/Buenos_Aires;VALUE=DATE:20190426
SEQUENCE:0
TRANSP:OPAQUE
END:VEVENT
END:VCALENDAR