BEGIN:VCALENDAR
VERSION:2.0
PRODID:-//jEvents 2.0 for Joomla//EN
CALSCALE:GREGORIAN
METHOD:PUBLISH
BEGIN:VEVENT
UID:CSVConvertf9937b9be1c8e3f8fddd21b092d6531d
CATEGORIES:Vencimientos
CREATED:20230323T174813
SUMMARY:Vencimiento SIRCREB (Pago DDJJ - 3ra. decena Febrero)
DESCRIPTION:
DTSTAMP:20260421T205109
DTSTART;TZID=America/Argentina/Buenos_Aires;VALUE=DATE:20180307
DTEND;TZID=America/Argentina/Buenos_Aires;VALUE=DATE:20180308
SEQUENCE:0
TRANSP:OPAQUE
END:VEVENT
END:VCALENDAR