BEGIN:VCALENDAR
VERSION:2.0
PRODID:-//jEvents 2.0 for Joomla//EN
CALSCALE:GREGORIAN
METHOD:PUBLISH
BEGIN:VEVENT
UID:CSVConvertf98a4bbe4400d63db4c9d6f623761ef1
CATEGORIES:Vencimientos
CREATED:20230323T174813
SUMMARY:Vencimiento SIFERE - Convenio Multilateral - 07/2018(CUIT 6 A 7)
DESCRIPTION:
DTSTAMP:20260421T221636
DTSTART;TZID=America/Argentina/Buenos_Aires;VALUE=DATE:20180817
DTEND;TZID=America/Argentina/Buenos_Aires;VALUE=DATE:20180818
SEQUENCE:0
TRANSP:OPAQUE
END:VEVENT
END:VCALENDAR