BEGIN:VCALENDAR
VERSION:2.0
PRODID:-//jEvents 2.0 for Joomla//EN
CALSCALE:GREGORIAN
METHOD:PUBLISH
BEGIN:VEVENT
UID:CSVConvertf80ac08f9d0f1d6f5816aa24a5da1a20
CATEGORIES:Vencimientos
CREATED:20230323T174813
SUMMARY:Vencimiento SIFERE - Convenio Multilateral - 03/2018(CUIT 8 A 9)
DESCRIPTION:
DTSTAMP:20260421T203227
DTSTART;TZID=America/Argentina/Buenos_Aires;VALUE=DATE:20180419
DTEND;TZID=America/Argentina/Buenos_Aires;VALUE=DATE:20180420
SEQUENCE:0
TRANSP:OPAQUE
END:VEVENT
END:VCALENDAR