BEGIN:VCALENDAR
VERSION:2.0
PRODID:-//jEvents 2.0 for Joomla//EN
CALSCALE:GREGORIAN
METHOD:PUBLISH
BEGIN:VEVENT
UID:CSVConvertf732e19189afa4a344cc569f231d2274
CATEGORIES:Vencimientos
CREATED:20230323T174813
SUMMARY:Vencimiento SIFERE - Convenio Multilateral - 07/2019 (CUIT 0 a 2)
DESCRIPTION:
DTSTAMP:20260421T132846
DTSTART;TZID=America/Argentina/Buenos_Aires;VALUE=DATE:20190815
DTEND;TZID=America/Argentina/Buenos_Aires;VALUE=DATE:20190816
SEQUENCE:0
TRANSP:OPAQUE
END:VEVENT
END:VCALENDAR