BEGIN:VCALENDAR
VERSION:2.0
PRODID:-//jEvents 2.0 for Joomla//EN
CALSCALE:GREGORIAN
METHOD:PUBLISH
BEGIN:VEVENT
UID:CSVConvert188e2c381cbf87972978b444bd9e2cb8
CATEGORIES:Vencimientos
CREATED:20230323T174738
SUMMARY:Vencimiento SIRCREB (Presentacion DDJJ -3ra. decena Mayo)
DESCRIPTION:
DTSTAMP:20260421T204740
DTSTART;TZID=America/Argentina/Buenos_Aires;VALUE=DATE:20180606
DTEND;TZID=America/Argentina/Buenos_Aires;VALUE=DATE:20180607
SEQUENCE:0
TRANSP:OPAQUE
END:VEVENT
END:VCALENDAR