BEGIN:VCALENDAR
VERSION:2.0
PRODID:-//jEvents 2.0 for Joomla//EN
CALSCALE:GREGORIAN
METHOD:PUBLISH
BEGIN:VEVENT
UID:CSVConvertf5a8deecbd653c7df54b1bbc9c25782e
CATEGORIES:Vencimientos
CREATED:20230323T174813
SUMMARY:Vencimiento SIRCREB (Presentación DDJJ -2da. decena Enero)
DESCRIPTION:
DTSTAMP:20260421T113857
DTSTART;TZID=America/Argentina/Buenos_Aires;VALUE=DATE:20190124
DTEND;TZID=America/Argentina/Buenos_Aires;VALUE=DATE:20190125
SEQUENCE:0
TRANSP:OPAQUE
END:VEVENT
END:VCALENDAR