BEGIN:VCALENDAR
VERSION:2.0
PRODID:-//jEvents 2.0 for Joomla//EN
CALSCALE:GREGORIAN
METHOD:PUBLISH
BEGIN:VEVENT
UID:CSVConvertf2f5553dd77607b672386e48183c4dc7
CATEGORIES:Vencimientos
CREATED:20230323T174812
SUMMARY:Vencimiento SIRCREB (Pago DDJJ - 1ra. decena Agosto)
DESCRIPTION:
DTSTAMP:20260421T222112
DTSTART;TZID=America/Argentina/Buenos_Aires;VALUE=DATE:20180817
DTEND;TZID=America/Argentina/Buenos_Aires;VALUE=DATE:20180818
SEQUENCE:0
TRANSP:OPAQUE
END:VEVENT
END:VCALENDAR