BEGIN:VCALENDAR
VERSION:2.0
PRODID:-//jEvents 2.0 for Joomla//EN
CALSCALE:GREGORIAN
METHOD:PUBLISH
BEGIN:VEVENT
UID:CSVConvertf11fdabeb490de38aa2ad84fef0aeb8f
CATEGORIES:Vencimientos
CREATED:20230323T174812
SUMMARY:Vencimiento SIFERE - Convenio Multilateral - 11/2018(CUIT 3 A 5)
DESCRIPTION:
DTSTAMP:20260421T210040
DTSTART;TZID=America/Argentina/Buenos_Aires;VALUE=DATE:20181218
DTEND;TZID=America/Argentina/Buenos_Aires;VALUE=DATE:20181219
SEQUENCE:0
TRANSP:OPAQUE
END:VEVENT
END:VCALENDAR