BEGIN:VCALENDAR
VERSION:2.0
PRODID:-//jEvents 2.0 for Joomla//EN
CALSCALE:GREGORIAN
METHOD:PUBLISH
BEGIN:VEVENT
UID:CSVConvertedbf44e6bf201d4b09fc8f50458bece7
CATEGORIES:Vencimientos
CREATED:20230323T174812
SUMMARY:Vencimiento SIRCREB (Presentación DDJJ -1ra. decena Agosto)
DESCRIPTION:
DTSTAMP:20260421T132444
DTSTART;TZID=America/Argentina/Buenos_Aires;VALUE=DATE:20190815
DTEND;TZID=America/Argentina/Buenos_Aires;VALUE=DATE:20190816
SEQUENCE:0
TRANSP:OPAQUE
END:VEVENT
END:VCALENDAR