BEGIN:VCALENDAR
VERSION:2.0
PRODID:-//jEvents 2.0 for Joomla//EN
CALSCALE:GREGORIAN
METHOD:PUBLISH
BEGIN:VEVENT
UID:CSVConvertecb60695aa0947b9ddc7e504d1b24a65
CATEGORIES:Vencimientos
CREATED:20230323T174811
SUMMARY:Vencimiento SIRCAR - 2da Quincena y Mensual - 07/2019 (CUIT 5 a 9)
DESCRIPTION:
DTSTAMP:20260421T132917
DTSTART;TZID=America/Argentina/Buenos_Aires;VALUE=DATE:20190809
DTEND;TZID=America/Argentina/Buenos_Aires;VALUE=DATE:20190810
SEQUENCE:0
TRANSP:OPAQUE
END:VEVENT
END:VCALENDAR