BEGIN:VCALENDAR
VERSION:2.0
PRODID:-//jEvents 2.0 for Joomla//EN
CALSCALE:GREGORIAN
METHOD:PUBLISH
BEGIN:VEVENT
UID:CSVConvertec5b9e4d04ae9f5728ec9574379b8cb0
CATEGORIES:Vencimientos
CREATED:20230323T174811
SUMMARY:Vencimiento SIRCREB (Pago DDJJ - 3ra. decena Noviembre)
DESCRIPTION:
DTSTAMP:20260421T155417
DTSTART;TZID=America/Argentina/Buenos_Aires;VALUE=DATE:20191206
DTEND;TZID=America/Argentina/Buenos_Aires;VALUE=DATE:20191207
SEQUENCE:0
TRANSP:OPAQUE
END:VEVENT
END:VCALENDAR