BEGIN:VCALENDAR
VERSION:2.0
PRODID:-//jEvents 2.0 for Joomla//EN
CALSCALE:GREGORIAN
METHOD:PUBLISH
BEGIN:VEVENT
UID:CSVConvertebb2757086726d6b92a6a91dbd6d930b
CATEGORIES:Vencimientos
CREATED:20230323T174811
SUMMARY:Vencimiento SIRCREB (Pago DDJJ - 2da. decena Octubre)
DESCRIPTION:
DTSTAMP:20260421T105343
DTSTART;TZID=America/Argentina/Buenos_Aires;VALUE=DATE:20191025
DTEND;TZID=America/Argentina/Buenos_Aires;VALUE=DATE:20191026
SEQUENCE:0
TRANSP:OPAQUE
END:VEVENT
END:VCALENDAR