BEGIN:VCALENDAR
VERSION:2.0
PRODID:-//jEvents 2.0 for Joomla//EN
CALSCALE:GREGORIAN
METHOD:PUBLISH
BEGIN:VEVENT
UID:CSVConvertea92870269c4116b714217ed4637d44c
CATEGORIES:Vencimientos
CREATED:20230323T174811
SUMMARY:Vencimiento SIRCREB (Pago DDJJ - 3ra. decena Marzo)
DESCRIPTION:
DTSTAMP:20260421T203336
DTSTART;TZID=America/Argentina/Buenos_Aires;VALUE=DATE:20180409
DTEND;TZID=America/Argentina/Buenos_Aires;VALUE=DATE:20180410
SEQUENCE:0
TRANSP:OPAQUE
END:VEVENT
END:VCALENDAR