BEGIN:VCALENDAR
VERSION:2.0
PRODID:-//jEvents 2.0 for Joomla//EN
CALSCALE:GREGORIAN
METHOD:PUBLISH
BEGIN:VEVENT
UID:CSVConvertea91321c7199ddfea7b2b4ad27590a14
CATEGORIES:Vencimientos
CREATED:20230323T174811
SUMMARY:Vencimiento SIFERE - Convenio Multilateral - 07/2018(CUIT 8 A 9)
DESCRIPTION:
DTSTAMP:20260421T221637
DTSTART;TZID=America/Argentina/Buenos_Aires;VALUE=DATE:20180821
DTEND;TZID=America/Argentina/Buenos_Aires;VALUE=DATE:20180822
SEQUENCE:0
TRANSP:OPAQUE
END:VEVENT
END:VCALENDAR