BEGIN:VCALENDAR
VERSION:2.0
PRODID:-//jEvents 2.0 for Joomla//EN
CALSCALE:GREGORIAN
METHOD:PUBLISH
BEGIN:VEVENT
UID:CSVConverte91e9a436334f6b39997dba8ed906c24
CATEGORIES:Vencimientos
CREATED:20230323T174811
SUMMARY:Vencimiento SIRCAR - 2da Quincena y Mensual - 01/2018 (CUIT 5 a 9)
DESCRIPTION:
DTSTAMP:20260421T204807
DTSTART;TZID=America/Argentina/Buenos_Aires;VALUE=DATE:20180214
DTEND;TZID=America/Argentina/Buenos_Aires;VALUE=DATE:20180215
SEQUENCE:0
TRANSP:OPAQUE
END:VEVENT
END:VCALENDAR