BEGIN:VCALENDAR
VERSION:2.0
PRODID:-//jEvents 2.0 for Joomla//EN
CALSCALE:GREGORIAN
METHOD:PUBLISH
BEGIN:VEVENT
UID:CSVConverte75a6bb5453126937e2538cbdaf7b9f3
CATEGORIES:Vencimientos
CREATED:20230323T174811
SUMMARY:Vencimiento SIFERE - Convenio Multilateral - 03/2018(CUIT 3 A 5)
DESCRIPTION:
DTSTAMP:20260421T202909
DTSTART;TZID=America/Argentina/Buenos_Aires;VALUE=DATE:20180417
DTEND;TZID=America/Argentina/Buenos_Aires;VALUE=DATE:20180418
SEQUENCE:0
TRANSP:OPAQUE
END:VEVENT
END:VCALENDAR