BEGIN:VCALENDAR
VERSION:2.0
PRODID:-//jEvents 2.0 for Joomla//EN
CALSCALE:GREGORIAN
METHOD:PUBLISH
BEGIN:VEVENT
UID:CSVConverte4c677fd13b381a7a4a0fb6bda87b27e
CATEGORIES:Vencimientos
CREATED:20230323T174810
SUMMARY:Vencimiento SIRCREB (Presentacion DDJJ -2da. decena Noviembre)
DESCRIPTION:
DTSTAMP:20260421T221435
DTSTART;TZID=America/Argentina/Buenos_Aires;VALUE=DATE:20181126
DTEND;TZID=America/Argentina/Buenos_Aires;VALUE=DATE:20181127
SEQUENCE:0
TRANSP:OPAQUE
END:VEVENT
END:VCALENDAR