BEGIN:VCALENDAR
VERSION:2.0
PRODID:-//jEvents 2.0 for Joomla//EN
CALSCALE:GREGORIAN
METHOD:PUBLISH
BEGIN:VEVENT
UID:CSVConverte4a26e6e78502368d1bda6f7e8413827
CATEGORIES:Vencimientos
CREATED:20230323T174810
SUMMARY:Vencimiento SIFERE - Convenio Multilateral - 01/2018(CUIT 8 A 9)
DESCRIPTION:
DTSTAMP:20260421T204304
DTSTART;TZID=America/Argentina/Buenos_Aires;VALUE=DATE:20180220
DTEND;TZID=America/Argentina/Buenos_Aires;VALUE=DATE:20180221
SEQUENCE:0
TRANSP:OPAQUE
END:VEVENT
END:VCALENDAR