BEGIN:VCALENDAR
VERSION:2.0
PRODID:-//jEvents 2.0 for Joomla//EN
CALSCALE:GREGORIAN
METHOD:PUBLISH
BEGIN:VEVENT
UID:CSVConverte1c69993b6965b3c14f200b57a9cd2cb
CATEGORIES:Vencimientos
CREATED:20230323T174810
SUMMARY:Vencimiento SIRCREB (Presentación DDJJ -1ra. decena Septiembre)
DESCRIPTION:
DTSTAMP:20260421T170825
DTSTART;TZID=America/Argentina/Buenos_Aires;VALUE=DATE:20190916
DTEND;TZID=America/Argentina/Buenos_Aires;VALUE=DATE:20190917
SEQUENCE:0
TRANSP:OPAQUE
END:VEVENT
END:VCALENDAR