BEGIN:VCALENDAR
VERSION:2.0
PRODID:-//jEvents 2.0 for Joomla//EN
CALSCALE:GREGORIAN
METHOD:PUBLISH
BEGIN:VEVENT
UID:CSVConverte05ada3227e78a1fa54bf56f0eae635b
CATEGORIES:Vencimientos
CREATED:20230323T174810
SUMMARY:Vencimiento SIRCREB (Pago DDJJ - 1ra. decena Diciembre)
DESCRIPTION:
DTSTAMP:20260421T184538
DTSTART;TZID=America/Argentina/Buenos_Aires;VALUE=DATE:20191217
DTEND;TZID=America/Argentina/Buenos_Aires;VALUE=DATE:20191218
SEQUENCE:0
TRANSP:OPAQUE
END:VEVENT
END:VCALENDAR