BEGIN:VCALENDAR
VERSION:2.0
PRODID:-//jEvents 2.0 for Joomla//EN
CALSCALE:GREGORIAN
METHOD:PUBLISH
BEGIN:VEVENT
UID:CSVConvertde1c74518d5b2ab61bc178281f26dbb3
CATEGORIES:Vencimientos
CREATED:20230323T174810
SUMMARY:Vencimiento SIRCAR - 1ra Quincena - 05/2018 (CUIT 0 a 4)
DESCRIPTION:
DTSTAMP:20260421T203804
DTSTART;TZID=America/Argentina/Buenos_Aires;VALUE=DATE:20180522
DTEND;TZID=America/Argentina/Buenos_Aires;VALUE=DATE:20180523
SEQUENCE:0
TRANSP:OPAQUE
END:VEVENT
END:VCALENDAR