BEGIN:VCALENDAR
VERSION:2.0
PRODID:-//jEvents 2.0 for Joomla//EN
CALSCALE:GREGORIAN
METHOD:PUBLISH
BEGIN:VEVENT
UID:CSVConvertdcaee5ba8b93a6228752bedf9604f752
CATEGORIES:Vencimientos
CREATED:20230323T174809
SUMMARY:Vencimiento SIRCREB (Pago DDJJ - 3ra. decena Abril)
DESCRIPTION:
DTSTAMP:20260421T203226
DTSTART;TZID=America/Argentina/Buenos_Aires;VALUE=DATE:20180508
DTEND;TZID=America/Argentina/Buenos_Aires;VALUE=DATE:20180509
SEQUENCE:0
TRANSP:OPAQUE
END:VEVENT
END:VCALENDAR