BEGIN:VCALENDAR
VERSION:2.0
PRODID:-//jEvents 2.0 for Joomla//EN
CALSCALE:GREGORIAN
METHOD:PUBLISH
BEGIN:VEVENT
UID:CSVConvertdb79a21678fd677c3e4e4126749fddc9
CATEGORIES:Vencimientos
CREATED:20230323T174809
SUMMARY:Vencimiento SIRCAR - 2da Quincena y Mensual - 08/2018 (CUIT 5 a 9)
DESCRIPTION:
DTSTAMP:20260421T222922
DTSTART;TZID=America/Argentina/Buenos_Aires;VALUE=DATE:20180911
DTEND;TZID=America/Argentina/Buenos_Aires;VALUE=DATE:20180912
SEQUENCE:0
TRANSP:OPAQUE
END:VEVENT
END:VCALENDAR