BEGIN:VCALENDAR
VERSION:2.0
PRODID:-//jEvents 2.0 for Joomla//EN
CALSCALE:GREGORIAN
METHOD:PUBLISH
BEGIN:VEVENT
UID:CSVConvert1616ced1ae74052df1f196245441602e
CATEGORIES:Vencimientos
CREATED:20230323T174738
SUMMARY:Vencimiento SIRCREB (Presentacion DDJJ -1ra. decena Junio)
DESCRIPTION:
DTSTAMP:20260421T203226
DTSTART;TZID=America/Argentina/Buenos_Aires;VALUE=DATE:20180614
DTEND;TZID=America/Argentina/Buenos_Aires;VALUE=DATE:20180615
SEQUENCE:0
TRANSP:OPAQUE
END:VEVENT
END:VCALENDAR