BEGIN:VCALENDAR
VERSION:2.0
PRODID:-//jEvents 2.0 for Joomla//EN
CALSCALE:GREGORIAN
METHOD:PUBLISH
BEGIN:VEVENT
UID:CSVConvert15a6fccc0dda5f36c570605e1144fa17
CATEGORIES:Vencimientos
CREATED:20230323T174738
SUMMARY:Vencimiento SIRCAR - 2da Quincena y Mensual - 02/2019 (CUIT 5 a 9)
DESCRIPTION:
DTSTAMP:20260421T132736
DTSTART;TZID=America/Argentina/Buenos_Aires;VALUE=DATE:20190311
DTEND;TZID=America/Argentina/Buenos_Aires;VALUE=DATE:20190312
SEQUENCE:0
TRANSP:OPAQUE
END:VEVENT
END:VCALENDAR