BEGIN:VCALENDAR
VERSION:2.0
PRODID:-//jEvents 2.0 for Joomla//EN
CALSCALE:GREGORIAN
METHOD:PUBLISH
BEGIN:VEVENT
UID:CSVConvertd4c31707b1f00c70e15d8dc83cd4c140
CATEGORIES:Vencimientos
CREATED:20230323T174808
SUMMARY:Vencimiento SIRCAR - 1ra Quincena - 07/2018 (CUIT 5 a 9)
DESCRIPTION:
DTSTAMP:20260421T203226
DTSTART;TZID=America/Argentina/Buenos_Aires;VALUE=DATE:20180724
DTEND;TZID=America/Argentina/Buenos_Aires;VALUE=DATE:20180725
SEQUENCE:0
TRANSP:OPAQUE
END:VEVENT
END:VCALENDAR