BEGIN:VCALENDAR
VERSION:2.0
PRODID:-//jEvents 2.0 for Joomla//EN
CALSCALE:GREGORIAN
METHOD:PUBLISH
BEGIN:VEVENT
UID:CSVConvertd46a64114400f535e1db074be13d118c
CATEGORIES:Vencimientos
CREATED:20230323T174808
SUMMARY:Vencimiento SIFERE - Convenio Multilateral - 12/2017 (CUIT 8 y 9)
DESCRIPTION:
DTSTAMP:20260421T203338
DTSTART;TZID=America/Argentina/Buenos_Aires;VALUE=DATE:20180118
DTEND;TZID=America/Argentina/Buenos_Aires;VALUE=DATE:20180119
SEQUENCE:0
TRANSP:OPAQUE
END:VEVENT
END:VCALENDAR